BEGIN:VCALENDAR
VERSION:2.0
PRODID:-//hacksw/handcal//NONSGML v1.0//EN
CALSCALE:GREGORIAN
BEGIN:VEVENT
DESCRIPTION:05. Mai 2026\, 17:00 - 19:30 Uhr
  Das Potenzial des US-Marktes ist groß – das haben sächsische Unternehmen aus verschiedenen Branchen erkannt. Doch gerade diese Größe macht den Markt auch anspruchsvoll. Um Erfahrungen zu teilen und voneinander zu lernen\, treffen sich regelmäßig USA-Erfahrene und Neueinsteiger aus allen Branchen in Dresden. Die vierte Ausgabe der Veranstaltung rückt aktuelle Geschäftspotenziale in den Mittelpunkt.
  URL: https://standort-sachsen.de/e1948
URL;VALUE=URI:https://standort-sachsen.de/e1948
DTSTART;VALUE=DATE:20260505
DTEND;VALUE=DATE:20260506
LOCATION:IHK Dresden (Mensa)\, Langer Weg 4\, 01239 Dresden
SUMMARY:Thementreff USA: Aktuelle Entwicklungen und Potenziale
DTSTAMP:20260423T234216Z
UID:e64541c46c7242e8efc71007572d0aca09387ea1472d351d
END:VEVENT
END:VCALENDAR