BEGIN:VCALENDAR
VERSION:2.0
PRODID:-//hacksw/handcal//NONSGML v1.0//EN
CALSCALE:GREGORIAN
BEGIN:VEVENT
DESCRIPTION:02. - 04. März 2027
  Die JEC World ist die globale Fachmesse für Verbundwerkstoffe und deren Anwendungen. Die Wirtschaftsförderung Sachsen GmbH (WFS) organisiert erneut einen sächsischen Gemeinschaftsstand. Nutzen Sie gern den Frühbuchervorteil bei Anmeldung bis zum 22. Mai 2026.
  URL: https://standort-sachsen.de/e202
URL;VALUE=URI:https://standort-sachsen.de/e202
DTSTART;VALUE=DATE:20270302
DTEND;VALUE=DATE:20270305
LOCATION:Paris Nord Villepinte Parc d‘Expositions
SUMMARY:JEC World 2027 - Gemeinschaftsstand SACHSEN!
DTSTAMP:20260423T090520Z
UID:e64541c46c7242e8aa15cf8af11a142f95383079d91ab941
END:VEVENT
END:VCALENDAR