BEGIN:VCALENDAR
VERSION:2.0
PRODID:-//hacksw/handcal//NONSGML v1.0//EN
CALSCALE:GREGORIAN
BEGIN:VEVENT
DESCRIPTION:21. Mai 2026\, 14:00 - 15:00 Uhr
  Entdecken Sie Ihre Chancen im Ukraine-Wiederaufbau: Im Webinar erfahren Sie kompakt\, welche Organisationen und Plattformen Ausschreibungen veröffentlichen\, wie Sie erfolgreich daran teilnehmen und welche besonderen Möglichkeiten sich aktuell im Energiesektor für deutsche Unternehmen bieten.
  URL: https://standort-sachsen.de/e3519
URL;VALUE=URI:https://standort-sachsen.de/e3519
DTSTART;VALUE=DATE:20260521
DTEND;VALUE=DATE:20260522
LOCATION:online
SUMMARY:Webinar: Ausschreibungen im Ukraine-Wiederaufbau – Ihr praktischer Einstieg
DTSTAMP:20260423T232647Z
UID:e64541c46c7242e8dfc1c6abcd006a294f2ebb5aa8f42bd4
END:VEVENT
END:VCALENDAR